BEGIN:VCALENDAR
VERSION:2.0
PRODID:-//David Coffin - ECPv5.12.3//NONSGML v1.0//EN
CALSCALE:GREGORIAN
METHOD:PUBLISH
X-WR-CALNAME:David Coffin
X-ORIGINAL-URL:https://davidcoffin.com
X-WR-CALDESC:Events for David Coffin
BEGIN:VTIMEZONE
TZID:UTC
BEGIN:STANDARD
TZOFFSETFROM:+0000
TZOFFSETTO:+0000
TZNAME:UTC
DTSTART:20220101T000000
END:STANDARD
END:VTIMEZONE
BEGIN:VEVENT
DTSTART;VALUE=DATE:20220609
DTEND;VALUE=DATE:20220610
DTSTAMP:20260425T221906
CREATED:20220601T165241Z
LAST-MODIFIED:20220601T165241Z
UID:2719-1654732800-1654819199@davidcoffin.com
SUMMARY:Maritime Concert 6:30-7:30pm (Private)
DESCRIPTION:Viewpoint Hotel\, York\, ME
URL:https://davidcoffin.com/event/maritime-concert-630-730pm-private/
END:VEVENT
END:VCALENDAR